BEGIN:VCALENDAR
VERSION:2.0
PRODID:-//Intand Corporation//Tandem//EN
METHOD:PUBLISH
BEGIN:VEVENT
DTSTAMP:20260424T201209Z
DTSTART:20211016T150000Z
DTEND:20211016T170000Z
TRANSP:TRANSPARENT
PRIORITY:0
SUMMARY:7th/8th Football Practice
LOCATION:St. Francis de Sales School > Athletic Fields > Football Practice
  Field\, St. Francis de Sales School > Weight Room\, St. Francis de Sales 
 School > Classrooms > Room 116
DESCRIPTION:Schools:\nSt. Francis de Sales School\n\nLocations:\nSt. Franc
 is de Sales School > Athletic Fields > Football Practice Field\nSt. Franci
 s de Sales School > Weight Room\nSt. Francis de Sales School > Classrooms 
 > Room 116\n\n
URL;VALUE=URI:http://sfs.tandem.co/index.php?type=view&action=event&id=9360
CREATED:20210722T232142Z
LAST-MODIFIED:20210922T195409Z
UID:event-9360-stfrancisdesales@intand.com
END:VEVENT
END:VCALENDAR
