BEGIN:VCALENDAR
VERSION:2.0
PRODID:-//Intand Corporation//Tandem//EN
METHOD:PUBLISH
BEGIN:VEVENT
DTSTAMP:20260424T200903Z
DTSTART:20211105T190000Z
DTEND:20211105T193000Z
TRANSP:TRANSPARENT
PRIORITY:0
SUMMARY:[Cancelled] Hockey - Team Mass
LOCATION:St. Francis de Sales School > Chapels > Oblate Chapel
DESCRIPTION:Schools:\nSt. Francis de Sales School\n\nLocation:\nSt. Franci
 s de Sales School > Chapels > Oblate Chapel\n\n
URL;VALUE=URI:http://sfs.tandem.co/index.php?type=view&action=event&id=9435
CREATED:20210726T140749Z
LAST-MODIFIED:20210917T113006Z
UID:event-9435-stfrancisdesales@intand.com
END:VEVENT
END:VCALENDAR
