BEGIN:VCALENDAR
VERSION:2.0
PRODID:-//Intand Corporation//Tandem//EN
METHOD:PUBLISH
BEGIN:VEVENT
DTSTAMP:20260424T201321Z
DTSTART:20210830T223000Z
DTEND:20210831T000000Z
TRANSP:TRANSPARENT
PRIORITY:0
SUMMARY:7th/8th Cross Country Practice
LOCATION:St. Francis de Sales School > Athletic Fields > LaValley Field (S
 tadium)
DESCRIPTION:Schools:\nSt. Francis de Sales School\n\nLocation:\nSt. Franci
 s de Sales School > Athletic Fields > LaValley Field (Stadium)\n\n
URL;VALUE=URI:http://sfs.tandem.co/index.php?type=view&action=event&id=9462
CREATED:20210726T154406Z
LAST-MODIFIED:20210726T154406Z
UID:event-9462-stfrancisdesales@intand.com
END:VEVENT
END:VCALENDAR
