BEGIN:VCALENDAR
VERSION:2.0
PRODID:-//Intand Corporation//Tandem//EN
METHOD:PUBLISH
BEGIN:VEVENT
DTSTAMP:20260424T201314Z
DTSTART;VALUE=DATE:20211016
DTEND;VALUE=DATE:20211018
TRANSP:TRANSPARENT
PRIORITY:0
SUMMARY:JV Water Polo State Tournament
LOCATION:St. Francis de Sales School > Pool
DESCRIPTION:Schools:\nSt. Francis de Sales School\n\nLocation:\nSt. Franci
 s de Sales School > Pool\n\n
URL;VALUE=URI:http://sfs.tandem.co/index.php?type=view&action=event&id=9562
CREATED:20210726T180915Z
LAST-MODIFIED:20210921T150449Z
UID:event-9562-stfrancisdesales@intand.com
END:VEVENT
END:VCALENDAR
