BEGIN:VCALENDAR
VERSION:2.0
PRODID:-//Intand Corporation//Tandem//EN
METHOD:PUBLISH
BEGIN:VEVENT
DTSTAMP:20260424T183658Z
DTSTART:20210823T110000Z
DTEND:20210823T130000Z
TRANSP:TRANSPARENT
PRIORITY:0
SUMMARY:Water Polo Practice
LOCATION:St. Francis de Sales School > Pool
DESCRIPTION:Schools:\nSt. Francis de Sales School\n\nLocation:\nSt. Franci
 s de Sales School > Pool\n\n
URL;VALUE=URI:http://sfs.tandem.co/index.php?type=view&action=event&id=9612
CREATED:20210730T150812Z
LAST-MODIFIED:20210730T150812Z
UID:event-9612-stfrancisdesales@intand.com
END:VEVENT
END:VCALENDAR
