BEGIN:VCALENDAR
VERSION:2.0
PRODID:-//Intand Corporation//Tandem//EN
METHOD:PUBLISH
BEGIN:VEVENT
DTSTAMP:20260424T201025Z
DTSTART:20210806T110000Z
DTEND:20210806T133000Z
TRANSP:TRANSPARENT
PRIORITY:0
SUMMARY:Water Polo Practice
LOCATION:St. Francis de Sales School > Pool\, St. Francis de Sales School 
 > Classrooms > Room 116
DESCRIPTION:Schools:\nSt. Francis de Sales School\n\nLocations:\nSt. Franc
 is de Sales School > Pool\nSt. Francis de Sales School > Classrooms > Room
  116\n\n
URL;VALUE=URI:http://sfs.tandem.co/index.php?type=view&action=event&id=9653
CREATED:20210801T131439Z
LAST-MODIFIED:20210801T131439Z
UID:event-9653-stfrancisdesales@intand.com
END:VEVENT
END:VCALENDAR
