BEGIN:VCALENDAR
VERSION:2.0
PRODID:-//Intand Corporation//Tandem//EN
METHOD:PUBLISH
BEGIN:VEVENT
DTSTAMP:20260422T201743Z
DTSTART:20261017T160000Z
DTEND:20261017T180000Z
TRANSP:TRANSPARENT
PRIORITY:0
SUMMARY:JV Football at Detroit Catholic Central
LOCATION:Detroit Catholic Central High School
DESCRIPTION:Location:\nDetroit Catholic Central High School\n\n
URL;VALUE=URI:https://sfs.tandem.co/index.php?type=view&action=event&id=33
 779
CREATED:20260421T151235Z
LAST-MODIFIED:20260421T151235Z
UID:event-33779-stfrancisdesales@intand.com
END:VEVENT
END:VCALENDAR
